BEGIN:VCALENDAR
VERSION:2.0
PRODID:-//Libreria GRIOT - Roma - ECPv6.15.20//NONSGML v1.0//EN
CALSCALE:GREGORIAN
METHOD:PUBLISH
X-ORIGINAL-URL:https://libreriagriot.it
X-WR-CALDESC:Eventi per Libreria GRIOT - Roma
REFRESH-INTERVAL;VALUE=DURATION:PT1H
X-Robots-Tag:noindex
X-PUBLISHED-TTL:PT1H
BEGIN:VTIMEZONE
TZID:Europe/Rome
BEGIN:DAYLIGHT
TZOFFSETFROM:+0100
TZOFFSETTO:+0200
TZNAME:CEST
DTSTART:20230326T010000
END:DAYLIGHT
BEGIN:STANDARD
TZOFFSETFROM:+0200
TZOFFSETTO:+0100
TZNAME:CET
DTSTART:20231029T010000
END:STANDARD
BEGIN:DAYLIGHT
TZOFFSETFROM:+0100
TZOFFSETTO:+0200
TZNAME:CEST
DTSTART:20240331T010000
END:DAYLIGHT
BEGIN:STANDARD
TZOFFSETFROM:+0200
TZOFFSETTO:+0100
TZNAME:CET
DTSTART:20241027T010000
END:STANDARD
BEGIN:DAYLIGHT
TZOFFSETFROM:+0100
TZOFFSETTO:+0200
TZNAME:CEST
DTSTART:20250330T010000
END:DAYLIGHT
BEGIN:STANDARD
TZOFFSETFROM:+0200
TZOFFSETTO:+0100
TZNAME:CET
DTSTART:20251026T010000
END:STANDARD
END:VTIMEZONE
BEGIN:VEVENT
DTSTART;TZID=Europe/Rome:20241004T180000
DTEND;TZID=Europe/Rome:20241004T180000
DTSTAMP:20260421T164811
CREATED:20240923T165039Z
LAST-MODIFIED:20240926T103215Z
UID:19698-1728064800-1728064800@libreriagriot.it
SUMMARY:Presentazione di "The Black Market. Una guida al collezionismo d'arte" di Charles Moore
DESCRIPTION:Venerdì 4 ottobre alle 18 GRIOT ospita la presentazione del libro “The Black Market. Una guida al collezionismo d’arte” di Charles Moore (Petite Ivy Press). \nAssieme all’autore partecipa l’artista e regista Francesca Chialà \nIl collezionismo d’arte può richiedere molto tempo\, apparire complicato e creare confusione nel principiante… ma non deve essere niente di tutto questo. Grazie a questa guida chiara e facile da seguire\, acquisirai le conoscenze e le competenze necessarie per iniziare a creare la tua collezione d’arte. Una singola immagine artistica\, forma pura di speranza\, sogno e sentimento\, può rivelare segreti a lungo custoditi\, stimolare l’immaginazione e offrire un senso di appartenenza. L’arte trasmette le parole che l’artista spesso potrebbe non essere stato in grado di pronunciare ad alta voce. In “The Black Market: Una Guida al Collezionismo d’Arte”\, Charles Moore\, collezionista d’arte e storico dell’arte di lunga data\, introduce collezionisti alle prime armi e aspiranti collezionisti al mondo dell’arte\, alle sue radici profonde\, ai suoi collegamenti con il nostro passato e alla speranza che rappresenta per il nostro futuro. \nSe hai mai desiderato diventare un collezionista\, vuoi saperne di più sull’arte afroamericana o approfondire la tua conoscenza artistica\, “The Black Market” è ciò che fa al caso tuo.
URL:https://libreriagriot.it/prossimi-eventi/presentazione-di-the-black-market-una-guida-al-collezionismo-darte-di-charles-moore/
CATEGORIES:Eventi
ATTACH;FMTTYPE=image/png:https://libreriagriot.it/wp-content/uploads/2024/09/Black-market_FB-1.png
END:VEVENT
BEGIN:VEVENT
DTSTART;TZID=Europe/Rome:20241011T180000
DTEND;TZID=Europe/Rome:20241011T180000
DTSTAMP:20260421T164811
CREATED:20240923T150203Z
LAST-MODIFIED:20240923T150237Z
UID:19689-1728669600-1728669600@libreriagriot.it
SUMMARY:Presentazione di "Decolonialità. Concetti\, analisi e prassi" di Walter D. Mignolo e Catherine E. Walsh
DESCRIPTION:Venerdì 11 ottobre alle 18\, la Libreria GRIOT ospita la presentazione di “Decolonialità. Concetti\, analisi e prassi” di Walter D. Mignolo e Catherine E. Walsh\, pubblicato da Castelvecchi Editore. Insieme a Walter D. Mignolo partecipano alla discussione il curatore del volume Tommaso Visone\,  Andrea Caroselli\, Università L’Orientale e Claudia De Martino\, Sapienza Università di Roma. \nLa decolonizzazione ha fallito\, pertanto una decolonialità è quanto mai necessaria e urgente. Il potere coloniale e la colonialità sopravvivono nelle gerarchie economiche\, razziali\, di genere\, in un sistema che vuole rendersi invisibile e che ormai il mondo intero ha introiettato come “naturale”. Il sottile dominio della colonialità ha preso il posto del colonialismo come ordine politico: matrice di un pensiero e di una civiltà – la cosiddetta “modernità” occidentale – che non si concepiscono come particolari\, storicamente dati\, ma come universali e superiori. Una civiltà che si arroga il dovere morale di civilizzare i barbari; dunque di negare a costo della violenza «saperi\, soggettività\, percezioni del mondo e visioni di vita» alternative ovunque sorgano\, nelle ex colonie come nello stesso Occidente. Da trent’anni\, gli studi e le pratiche decoloniali costruiscono un futuro diverso. Walter D. Mignolo e Catherine E. Walsh\, esponenti di spicco della decolonialità a livello internazionale\, lavorano alla liberazione dell’immaginario\, riscoprendo nell’Altro l’«imprevedibilità rivoluzionaria» e coltivando un «border thinking» che esca dall’orizzonte concettuale della modernità: «Gli strumenti del padrone non distruggeranno mai la casa del padrone». Decolonialità è un testo decisivo per accedere a uno dei dibattiti più accesi della contemporaneità; per riflettere sul senso di inferiorità che anche il nostro Occidente “periferico” ha interiorizzato in decenni di subordinazione culturale; per adottare modelli sociali tanto lontani dallo Stato-nazione quanto dal globalismo del consumo\, seguendo la via delle comunità che hanno già fatto vivere la decolonialità «come un’opzione\, una prospettiva\, un’analitica\, un progetto\, una prassi». \nWalter D. Mignolo è William Hane Wannamaker Distinguished Emeritus Professor di Romance Studies e professore di Letteratura presso la Duke University di Durham. Ha ricevuto un dottorato honoris causa dalla Universidad de Buenos Aires (2016)\, dalla National University of Formosa e dalla Universidad Nacional de Córdoba in Argentina (2023)\, e una laurea honoris causa dalla Goldsmiths University di Londra (2018). Ha lavorato per oltre trent’anni sulle questioni relative alla nascita del mondo moderno e del mondo coloniale\, affermandosi come uno dei più importanti teorici del pensiero decoloniale latinoamericano. In italiano è stato pubblicato L’idea di America Latina. Geostoria di una teoria decoloniale (Mimesis\, 2012). Il suo ultimo libro è The Politics of Decolonial Investigations (Duke University Press\, 2021).
URL:https://libreriagriot.it/prossimi-eventi/presentazione-di-decolonialita-concetti-analisi-e-prassi-di-walter-d-mignolo-e-catherine-e-walsh/
LOCATION:Libreria GRIOT\, Via S. Cecilia 1/a\, Roma\, Italia
CATEGORIES:Eventi
ATTACH;FMTTYPE=image/png:https://libreriagriot.it/wp-content/uploads/2024/09/Mignolo-FB.png
END:VEVENT
BEGIN:VEVENT
DTSTART;TZID=Europe/Rome:20241012T180000
DTEND;TZID=Europe/Rome:20241012T180000
DTSTAMP:20260421T164811
CREATED:20240923T151306Z
LAST-MODIFIED:20240923T154548Z
UID:19692-1728756000-1728756000@libreriagriot.it
SUMMARY:Presentazione di "Amilcar Cabral educatore e attivista " di Clara Silva e Marco Piazza
DESCRIPTION:Sabato 12 ottobre alle 18 la Libreria GRIOT ospita la presentazione di “Amílcar Cabral educatore e attivista”\, pubblicato da Carocci\nPartecipano gli autori Clara Silva\, professoressa ordinaria di Pedagogia generale e sociale all’Università degli Studi di Firenze e Marco Piazza\, professore associato di Storia della filosofia all’Università degli Studi Roma Tre. Insieme a loro discute Giorgio de Marchis\,  professore ordinario di Letterature portoghese e brasiliana Università degli Studi Roma Tre. \nLa vita e l’opera di Amílcar Cabral (1924-1973)\, eroe della lotta contro il Portogallo per la liberazione e l’indipendenza della Guinea-Bissau e di Capo Verde\, rivelano una figura poliedrica e sfaccettata: l’agronomo\, il poeta\, l’attivista culturale\, il leader politico rivoluzionario\, il negoziatore internazionale\, l’educatore\, il filosofo della resistenza anticoloniale. Il volume mostra i nessi profondi tra questi suoi diversi volti e ne approfondisce due molto attuali e poco studiati: il pedagogista-educatore e il pensatore originale. Alla complessa e affascinante personalità di Cabral è così restituito tutto lo spessore intellettuale che ne fa uno dei grandi protagonisti della decolonizzazione in Africa\, offrendo preziosi strumenti concettuali per pensare e agire in una prospettiva postcoloniale
URL:https://libreriagriot.it/prossimi-eventi/presentazione-di-amilcar-cabral-educatore-e-attivista-di-clara-silva-e-marco-piazza/
LOCATION:Libreria GRIOT\, Via S. Cecilia 1/a\, Roma\, Italia
CATEGORIES:Eventi
ATTACH;FMTTYPE=image/png:https://libreriagriot.it/wp-content/uploads/2024/09/Cabral-.png
END:VEVENT
BEGIN:VEVENT
DTSTART;TZID=Europe/Rome:20241026T170000
DTEND;TZID=Europe/Rome:20241026T190000
DTSTAMP:20260421T164811
CREATED:20241021T170423Z
LAST-MODIFIED:20241022T130258Z
UID:19777-1729962000-1729969200@libreriagriot.it
SUMMARY:Incontro con Trattoria Guaiana
DESCRIPTION:Sabato 26 ottobre alle ore 17.00 Libreria GRIOT ospiterà la presentazione di Trattoria Guaiana\, un progetto di Niccolò Moronato\, Prince Asford e Alice Jasmine Crippa. Introduce Ilaria Gianni\, direttrice artistica di Iuno.  \nÈ necessario prenotarsi e versare un contributo di 10 euro per sostenere le attività di Trattoria Guaiana. Puoi fare tutto qui  \nTrattoria Guaiana è una cucina partecipativa e post-tradizionale\, pensata per re-immaginare e re-interpretare la cultura culinaria italiana a partire dal riconoscimento e dalla valorizzazione di tutte le sue voci\, sia quelle note sia quelle rimosse\, che ne fanno o ne hanno fatto parte. \nL’incontro introdurrà l’ampio ricettario post-tradizionale di Trattoria a partire da alcuni piatti che sarà possibile assaggiare\, riflettendo parallelamente sull’impianto metodologico della ricerca e sulle barriere linguistiche incontrate nel corso di quest’ultima. A tale proposito verranno presentati alcuni dei riferimenti bibliografici posti a fondamento del progetto\, per la maggior parte ancora privi di traduzione italiana. \nTrattoria Guaiana\, un progetto iniziato da Niccolò Moronato\, Prince Asford e Alice Jasmine Crippa\, è una pratica di cucina partecipativa e post-tradizionale\, pensata per re-immaginare e re-interpretare la cultura culinaria italiana a partire dal riconoscimento e dalla valorizzazione di tutte quelle identità e culture “altre” che vi hanno contribuito\, senza però mai entrare a farne parte. Il progetto raccoglie ricette nate da esperienze di diaspora\, migrazione e incontro culturale per ampliare\, e allo stesso tempo ridiscutere\, il concetto stesso di cucina “tradizionale”. Rendendo alieno il familiare e familiare l’alieno\, Trattoria Guaiana si propone come uno spazio in cui condividere storie\, ricette\, ingredienti\, processi personali e collettivi\, secondo un approccio conviviale e interdisciplinare. \n 
URL:https://libreriagriot.it/prossimi-eventi/19777/
LOCATION:Libreria GRIOT\, Via S. Cecilia 1/a\, Roma\, Italia
CATEGORIES:Eventi
ATTACH;FMTTYPE=image/png:https://libreriagriot.it/wp-content/uploads/2024/10/Bozza-trattoria-Guaiana-fb.png
END:VEVENT
END:VCALENDAR