BEGIN:VCALENDAR
VERSION:2.0
PRODID:-//Libreria GRIOT - Roma - ECPv6.15.20//NONSGML v1.0//EN
CALSCALE:GREGORIAN
METHOD:PUBLISH
X-ORIGINAL-URL:https://libreriagriot.it
X-WR-CALDESC:Eventi per Libreria GRIOT - Roma
REFRESH-INTERVAL;VALUE=DURATION:PT1H
X-Robots-Tag:noindex
X-PUBLISHED-TTL:PT1H
BEGIN:VTIMEZONE
TZID:Europe/Rome
BEGIN:DAYLIGHT
TZOFFSETFROM:+0100
TZOFFSETTO:+0200
TZNAME:CEST
DTSTART:20230326T010000
END:DAYLIGHT
BEGIN:STANDARD
TZOFFSETFROM:+0200
TZOFFSETTO:+0100
TZNAME:CET
DTSTART:20231029T010000
END:STANDARD
BEGIN:DAYLIGHT
TZOFFSETFROM:+0100
TZOFFSETTO:+0200
TZNAME:CEST
DTSTART:20240331T010000
END:DAYLIGHT
BEGIN:STANDARD
TZOFFSETFROM:+0200
TZOFFSETTO:+0100
TZNAME:CET
DTSTART:20241027T010000
END:STANDARD
BEGIN:DAYLIGHT
TZOFFSETFROM:+0100
TZOFFSETTO:+0200
TZNAME:CEST
DTSTART:20250330T010000
END:DAYLIGHT
BEGIN:STANDARD
TZOFFSETFROM:+0200
TZOFFSETTO:+0100
TZNAME:CET
DTSTART:20251026T010000
END:STANDARD
END:VTIMEZONE
BEGIN:VEVENT
DTSTART;TZID=Europe/Rome:20240703T183000
DTEND;TZID=Europe/Rome:20240703T183000
DTSTAMP:20260421T233916
CREATED:20240624T152955Z
LAST-MODIFIED:20240624T154254Z
UID:19392-1720031400-1720031400@libreriagriot.it
SUMMARY:Il Circolo del Libro legge "I domani di ieri" di Ali Bécheur
DESCRIPTION:Mercoledì 3 luglio alle 18\,30\, il Circolo del libro di GRIOT e Editoriaraba si incontra per parlare di “I domani di ieri” dello scrittore tunisino Ali Bécheur\, pubblicato da Francesco Brioschi. \nSin da piccolo Ali è abituato allo sguardo severo del padre\, una lama incombente capace di farlo sentire sempre inadeguato. Figura enigmatica e rigorosa\, Omar può fregiarsi di una storia personale piena di glorie\, scandita dalle battaglie della Tunisia verso la libertà e l’indipendenza: il riscatto dalle umili origini grazie all’eccellente educazione al collège Sadiki\, le contestazioni del primo Novecento contro il protettorato francese\, una carriera forense spesa in difesa dei compatrioti insorti contro i colonizzatori. Ma la sua intransigenza ha segnato il figlio per tutta la vita: come si può esistere di fronte a un padre così monumentale? E come lo si può ricostruire una volta scomparso? Ali Bécheur tratteggia il rapporto per eccellenza\, quello che lega un figlio al proprio padre\, un uomo a un ‘assente sempre presente’ con cui\, prima o poi\, si devono fare i conti. Con cui\, prima o poi\, ci si deve riappacificare. \nE’ possibile partecipare in libreria e da remoto con questo link https://meet.goto.com/120130541
URL:https://libreriagriot.it/prossimi-eventi/il-circolo-del-libro-legge-i-domani-di-ieri-di-ali-becheur/
LOCATION:Libreria GRIOT\, Via S. Cecilia 1/a\, Roma\, Italia
CATEGORIES:Bookclub,Eventi
ATTACH;FMTTYPE=image/png:https://libreriagriot.it/wp-content/uploads/2024/06/Bookclub-Domani-facebook.png
END:VEVENT
BEGIN:VEVENT
DTSTART;TZID=Europe/Rome:20240709T183000
DTEND;TZID=Europe/Rome:20240709T183000
DTSTAMP:20260421T233916
CREATED:20240624T153442Z
LAST-MODIFIED:20240629T112718Z
UID:19395-1720549800-1720549800@libreriagriot.it
SUMMARY:Presentazione de "L'ltalia e il mondo post-coloniale"
DESCRIPTION:Martedì 9 luglio alle 18.30 GRIOT ospita la presentazione de “L’Italia e il mondo post-coloniale” \, volume pubblicato da Le Monnier e curato da Donato di Sanzo\, Beatrice Falcucci e Gianmarco Mancosu. Insieme alla co-curatrice Beatrice Falcucci partecipa lo storico Emanuele Ertola.\nIntroduce e modera lo storico del cinema Luca Peretti \nAttraverso il dialogo tra approcci differenti\, il volume riconsidera il concetto di post-coloniale italiano attraverso analisi che riguardano l’eredità coloniale dell’Italia nei rapporti instaurati coi paesi di recente indipendenza d’Africa e Asia. Un oggetto di studio connotato da dinamiche che interessano trasversalmente la storia dell’Italia contemporanea\, la vicenda delle relazioni internazionali a partire dal secondo dopoguerra\, la storia sociale e culturale di un paese attraversato da numerose tensioni. Nella sua articolazione\, l’opera propone approfondimenti di conoscenza relativamente a tre snodi tematici interconnessi: l’elaborazione politica dei processi di decolonizzazione e la conseguente pianificazione di strategie di cooperazione internazionale; la strutturazione del complesso sistema della cooperazione tecnica italiana; l’universo delle mobilità di persone\, expertise e mezzi connessi alla fine del mondo coloniale.
URL:https://libreriagriot.it/prossimi-eventi/presentazione-de-lltalia-e-il-mondo-post-coloniale/
LOCATION:Libreria GRIOT\, Via S. Cecilia 1/a\, Roma\, Italia
CATEGORIES:Eventi
ATTACH;FMTTYPE=image/png:https://libreriagriot.it/wp-content/uploads/2024/06/Italia-e-mondo-post-coloniale-FB_2-1.png
END:VEVENT
BEGIN:VEVENT
DTSTART;TZID=Europe/Rome:20240718T183000
DTEND;TZID=Europe/Rome:20240718T183000
DTSTAMP:20260421T233916
CREATED:20240702T140225Z
LAST-MODIFIED:20240702T140310Z
UID:19426-1721327400-1721327400@libreriagriot.it
SUMMARY:Presentazione di "Abu Avrahàm" di Manuel Bonomo Morzenti
DESCRIPTION:Giovedì 18 luglio alle 18\,30 GRIOT ospita la presentazione del romanzo “Abu Avrahàm. Incontrarsi oltre la storia” di Manuel Bonomo Morzenti (Enrico Damiani Editore 2024) \nL’autore ne discute con Simone Sibilio\, professore di lingua e letteratura araba all’Università Ca’ Foscari di Venezia \nAll’inizio del Novecento\, quando tutto è ottomano e ancora non si distingue fra Palestina e Israele\, un bambino arabo di nome Yussuf\, testardo e sognatore\, scappa dal suo villaggio e arriva a Gerusalemme. Nella Città Santa viene accolto nella casa di un commerciante ebreo e si innamora di Leah e dei suoi occhi verdi: ne nascerà una famiglia di sangue misto. \nMa dopo la Seconda guerra mondiale\, la frattura provocata dalla nascita dello Stato di Israele spinge Yussuf a fuggire nuovamente. E a tornare a “casa”\, nel suo villaggio d’origine. Lì si costruirà una seconda famiglia\, con una moglie araba\, Maryam\, e una discendenza altrettanto numerosa. Della sua vita precedente rimarranno solo delle dicerie e la kunya\, quel particolare nome arabo che lega il padre al proprio primogenito: Yussuf sarà così per tutti Abu Avrahàm\, il “padre di Avrahàm”\, il primo dei figli – ebreo per parte di madre – lasciati a Gerusalemme. \nLe due discendenze vivranno così separate per oltre mezzo secolo\, divise da una Storia inclemente. Sarà Ismail\, il primogenito palestinese di stanza a Roma\, a riprendere le fila della vicenda di Abu Avrahàm e a svelare l’enigma impresso nel suo nome: figli e nipoti\, tra cui l’irrequieto Sami\, finiranno per incontrarsi e\, loro malgrado\, per riconoscersi\, in un gioco di avvicinamenti timidi e allontanamenti sofferti. A unirli\, nonostante tutto\, ci sarà sempre la consapevolezza innegabile di condividere lo stesso sangue\, la stessa memoria.
URL:https://libreriagriot.it/prossimi-eventi/presentazione-di-abu-avraham-di-manuel-bonomo-morzenti/
CATEGORIES:Eventi
ATTACH;FMTTYPE=image/png:https://libreriagriot.it/wp-content/uploads/2024/07/Abu-Avraham-.png
END:VEVENT
END:VCALENDAR