BEGIN:VCALENDAR
VERSION:2.0
PRODID:-//Libreria GRIOT - Roma - ECPv6.15.20//NONSGML v1.0//EN
CALSCALE:GREGORIAN
METHOD:PUBLISH
X-ORIGINAL-URL:https://libreriagriot.it
X-WR-CALDESC:Eventi per Libreria GRIOT - Roma
REFRESH-INTERVAL;VALUE=DURATION:PT1H
X-Robots-Tag:noindex
X-PUBLISHED-TTL:PT1H
BEGIN:VTIMEZONE
TZID:Europe/Rome
BEGIN:DAYLIGHT
TZOFFSETFROM:+0100
TZOFFSETTO:+0200
TZNAME:CEST
DTSTART:20230326T010000
END:DAYLIGHT
BEGIN:STANDARD
TZOFFSETFROM:+0200
TZOFFSETTO:+0100
TZNAME:CET
DTSTART:20231029T010000
END:STANDARD
BEGIN:DAYLIGHT
TZOFFSETFROM:+0100
TZOFFSETTO:+0200
TZNAME:CEST
DTSTART:20240331T010000
END:DAYLIGHT
BEGIN:STANDARD
TZOFFSETFROM:+0200
TZOFFSETTO:+0100
TZNAME:CET
DTSTART:20241027T010000
END:STANDARD
BEGIN:DAYLIGHT
TZOFFSETFROM:+0100
TZOFFSETTO:+0200
TZNAME:CEST
DTSTART:20250330T010000
END:DAYLIGHT
BEGIN:STANDARD
TZOFFSETFROM:+0200
TZOFFSETTO:+0100
TZNAME:CET
DTSTART:20251026T010000
END:STANDARD
END:VTIMEZONE
BEGIN:VEVENT
DTSTART;TZID=Europe/Rome:20240301T180000
DTEND;TZID=Europe/Rome:20240301T200000
DTSTAMP:20260422T072530
CREATED:20240212T153843Z
LAST-MODIFIED:20240227T113136Z
UID:18607-1709316000-1709323200@libreriagriot.it
SUMMARY:Presentazione di "Storia del colonialismo italiano"
DESCRIPTION:Venerdì 1 marzo alle 18 ospitiamo la presentazione di Storia del colonialismo italiano di Valeria Deplano e Alessandro Pes\, pubblicato da Carocci. Insieme agli autori parteciperà lo storico Emanuele Ertola. L’incontro fa parte di  Yekatit12-19Febbraio\, il calendario di appuntamenti per raccontare il colonialismo italiano e le sue eredità\, le resistenze e le voci delle diaspore.  \nCon un linguaggio accessibile ma allo stesso tempo rigoroso\, il volume ripercorre la storia dell’espansionismo italiano verso Libia\, Eritrea\, Somalia ed Etiopia dal XIX al XXI secolo\, indagandone non solo gli aspetti bellici e politici\, ma anche culturali e memoriali. Una snella sintesi del colonialismo italiano in Africa grazie alla quale chiunque potrà comprendere l’attuale dibattito sulle eredità coloniali nell’Italia contemporanea.\nValeria Deplano è professoressa associata di Storia contemporanea all’Università di Cagliari.\nAlessandro Pes è professore associato di Storia contemporanea all’Università di Cagliari e Fellow al Remarque Institute della\nNew York University.
URL:https://libreriagriot.it/prossimi-eventi/presentazione-di-storia-del-colonialismo-italiano/
LOCATION:Libreria GRIOT\, Via S. Cecilia 1/a\, Roma\, Italia
CATEGORIES:Eventi
ATTACH;FMTTYPE=image/png:https://libreriagriot.it/wp-content/uploads/2024/02/Storia-colonialismo-italiano-1.png
END:VEVENT
BEGIN:VEVENT
DTSTART;TZID=Europe/Rome:20240309T180000
DTEND;TZID=Europe/Rome:20240309T200000
DTSTAMP:20260422T072530
CREATED:20240227T132057Z
LAST-MODIFIED:20240227T132057Z
UID:18741-1710007200-1710014400@libreriagriot.it
SUMMARY:Presentazione di "Atlante delle bugie" di Francesco Petronella
DESCRIPTION:Sabato 9 marzo a GRIOT ospitiamo la presentazione di “Atlante delle bugie” di Francesco Petronella\, pubblicato da Paesi edizioni. L’autore dialoga con il reporter di guerra Cristiano Tinazzi\, modera la giornalista Luisa Monforte. \nQuando si parla di Esteri nel flusso dell’informazione mainstream finisce di tutto. Ci sono le notizie inventate\, quelle di parte veicolate da attori mossi da determinati interessi\, quelle che fanno da megafono alla propaganda di regimi e governi autoritari. Viviamo nell’era della post verità e dei social media\, in cui chiunque può accedere a innumerevoli fonti e creare contenuti virali e dove diventa sempre più complesso comprendere realmente ciò che accade. Vale anche per l’Italia\, Paese dalla scarsa vocazione esterofila in cui\, complice la crisi dei grandi giornali\, sempre meno reporter vengono inviati nei teatri di crisi per raccogliere e trasmettere al pubblico informazioni di prima mano.\nScopo di questo libro è fornire al lettore una cassetta degli attrezzi utile per districarsi in questo caos quotidiano\, imparando a riconoscere le fonti attendibili ed evitare così le trappole della disinformazione. Tra i case study analizzati\, il conflitto siriano scoppiato nel 2011 e la guerra in Ucraina.
URL:https://libreriagriot.it/prossimi-eventi/presentazione-di-atlante-delle-bugie-di-francesco-petronella/
LOCATION:Libreria GRIOT\, Via S. Cecilia 1/a\, Roma\, Italia
CATEGORIES:Eventi
ATTACH;FMTTYPE=image/png:https://libreriagriot.it/wp-content/uploads/2024/02/Atlante-delle-bugie.png
END:VEVENT
BEGIN:VEVENT
DTSTART;TZID=Europe/Rome:20240322T180000
DTEND;TZID=Europe/Rome:20240322T180000
DTSTAMP:20260422T072530
CREATED:20240312T151508Z
LAST-MODIFIED:20240314T170706Z
UID:18821-1711130400-1711130400@libreriagriot.it
SUMMARY:"Dove la notte canta al giorno" incontro sulla poesia in lingua inglese dell'Africa occidentale
DESCRIPTION:Venerdì 22 marzo alle 18 GRIOT ospita un incontro sulla poesia in lingua inglese dell’Africa occidentale e della diaspora con Stefano Daffra.   \nSi fa un gran parlare di Africa\, soprattutto in politica\, tuttavia quante volte ne parliamo senza sapere? Pensando all’Africa subsahariana\, quanto conosciamo le sue letterature\, chi sono le sue autrici e i suoi autori? Eppure nella seconda metà del ‘900\, insieme ai processi di decolonizzazione\, nell’Africa subsahariana sono giunte a maturazione più letterature di grande vivacità e inventiva scritte per lo più in inglese\, francese e portoghese. Con questo incontro\, organizzato per la Giornata Mondiale della poesia cerchiamo allora di compiere un breve viaggio nella poesia anglofona nell’Africa occidentale e nella diaspora dagli anni ’60 alla fine del XX secolo seguendo un filo a tema attraverso più generazioni di poeti e scrittori che vanno dai più rinomati Chinua Achebe e Wole Soyinka fino ad Ama Ata Aidoo\, Ben Okri o Patricia Jabbeh Wesley. Si tratta di una decina di nomi per la gran parte nati in Nigeria\, oltre a Ghana\, Liberia e Sierra Leone\, di cui Stefano Daffra ha tradotto una scelta di poesie per il progetto di un libro\, completato e proposto a più case editrici\, dal titolo “Dove la notte canta al giorno. Poesie in inglese dall’Africa occidentale e dalla diaspora”. Come si potrà però constatare dal discorso intorno alle poesie che verranno lette\, e come accade alla letteratura più profonda\, i testi selezionati non vanno confinati ai drammi\, alle guerre\, alle storie e alle aspirazioni di quelle realtà\, non riguardano esclusivamente l’Africa: riguardano tutti noi fintanto che\, come usa dire in altri frangenti\, ci consideriamo umani. \nStefano Daffra\, fiorentino\, è appassionato di letteratura e in particolare di poesia\, molto tempo fa si è laureato in letteratura inglese\, ama viaggiare\, è andato qualche volta nell’Africa subsahariana ma meno di quanto avrebbe desiderato\, lavora nel campo dell’editoria. Infine è tra coloro che\, quando cerca un libro\, ha il vizio di andare prima di tutto in libreria.
URL:https://libreriagriot.it/prossimi-eventi/dove-la-notte/
LOCATION:Libreria GRIOT\, Via S. Cecilia 1/a\, Roma\, Italia
CATEGORIES:Eventi
ATTACH;FMTTYPE=image/png:https://libreriagriot.it/wp-content/uploads/2024/03/dove-la-notte.png
END:VEVENT
END:VCALENDAR