BEGIN:VCALENDAR
VERSION:2.0
PRODID:-//Libreria GRIOT - Roma - ECPv6.15.20//NONSGML v1.0//EN
CALSCALE:GREGORIAN
METHOD:PUBLISH
X-ORIGINAL-URL:https://libreriagriot.it
X-WR-CALDESC:Eventi per Libreria GRIOT - Roma
REFRESH-INTERVAL;VALUE=DURATION:PT1H
X-Robots-Tag:noindex
X-PUBLISHED-TTL:PT1H
BEGIN:VTIMEZONE
TZID:Europe/Rome
BEGIN:DAYLIGHT
TZOFFSETFROM:+0100
TZOFFSETTO:+0200
TZNAME:CEST
DTSTART:20230326T010000
END:DAYLIGHT
BEGIN:STANDARD
TZOFFSETFROM:+0200
TZOFFSETTO:+0100
TZNAME:CET
DTSTART:20231029T010000
END:STANDARD
BEGIN:DAYLIGHT
TZOFFSETFROM:+0100
TZOFFSETTO:+0200
TZNAME:CEST
DTSTART:20240331T010000
END:DAYLIGHT
BEGIN:STANDARD
TZOFFSETFROM:+0200
TZOFFSETTO:+0100
TZNAME:CET
DTSTART:20241027T010000
END:STANDARD
BEGIN:DAYLIGHT
TZOFFSETFROM:+0100
TZOFFSETTO:+0200
TZNAME:CEST
DTSTART:20250330T010000
END:DAYLIGHT
BEGIN:STANDARD
TZOFFSETFROM:+0200
TZOFFSETTO:+0100
TZNAME:CET
DTSTART:20251026T010000
END:STANDARD
END:VTIMEZONE
BEGIN:VEVENT
DTSTART;TZID=Europe/Rome:20240619T150000
DTEND;TZID=Europe/Rome:20240620T180000
DTSTAMP:20260420T193715
CREATED:20240601T152411Z
LAST-MODIFIED:20240612T094107Z
UID:19313-1718809200-1718906400@libreriagriot.it
SUMMARY:Colori d’Africa. Due pomeriggi di studi cromatici con Alessandra Bruno
DESCRIPTION:Il 19 e 20 Giugno dalle 15 alle 18 GRIOT ospita Colori d’Africa\, workshop di acquarello e studi cromatici con Alessandra Bruno. \nSiete invitati a partecipare ad un viaggio di conoscenza e approfondimento pittorico della triplice radice del colore africano. Sei ore di contatto ed elaborazione artistica personale delle tre radici archetipiche che fanno parte non solo del corpo umano ma del tempo e dello spazio del nostro cammino sulla terra da che fummo generati dal grembo dell’Africa. Radici che hanno forme\, materie e suoni propri\, propiziatori di linguaggi poetici capaci di raccontare messaggi inesprimibili a parole. \nPrincipianti e pittori più esperti sono benvenuti a partecipare ai nostri incontri con album da disegno\, acquarelli\, pennelli\, contenitori per l’acqua\, tavolozza bianca per mischiare il colore e fazzoletti di carta o straccio di cotone. Il laboratorio\, pensato per acquarellisti è aperto anche ad amatori di altre tecniche cromatiche\, portate con voi i materiali espressivi che prediligete. \nIl costo del laboratorio è di 120 Euro a persona\, più 20 euro di iscrizione annuale a APS Officina GRIOT.\nPer informazioni potere scrivere una mail a: alessandrabruno.it@gmail.com\, Per iscrizioni scrivete a: info@libreriagriot.it \nAlessandra Bruno\, nata a Torino\, ha studiato arte al St. Martin’s school of Arts di Londra e al Maidstone College of Art’s. Ha lavorato nel mondo tessile  a Milano\, dove ha collaborato a molti progetti artistici di design ed educazione al colore. Ha esposto in Italia\, Inghilterra e Francia e o collaborato a progetti di land art\, pittura murale pubblica e vacanze di pittura per adulti e bambini in Italia e all’estero. Dal 2002 al 2019\, ha collaborato con L’Istituto Europeo di Design Milano come docente di colore per studenti universitari e masterclass di Textile\, Fashion Design e Jewelry Design. https://alessandrabruno.com/home
URL:https://libreriagriot.it/prossimi-eventi/colori-dafrica/
LOCATION:Libreria GRIOT\, Via S. Cecilia 1/a\, Roma\, Italia
CATEGORIES:Corsi
ATTACH;FMTTYPE=image/png:https://libreriagriot.it/wp-content/uploads/2024/06/Colori-dAfrica-facebook-1.png
ORGANIZER;CN="Libreria GRIOT":MAILTO:info@libreriagriot.it
END:VEVENT
END:VCALENDAR